BEGIN:VCALENDAR
VERSION:2.0
PRODID:-//Hartfiel Automation - ECPv6.15.20//NONSGML v1.0//EN
CALSCALE:GREGORIAN
METHOD:PUBLISH
X-WR-CALNAME:Hartfiel Automation
X-ORIGINAL-URL:https://www.hartfiel.com
X-WR-CALDESC:Events for Hartfiel Automation
REFRESH-INTERVAL;VALUE=DURATION:PT1H
X-Robots-Tag:noindex
X-PUBLISHED-TTL:PT1H
BEGIN:VTIMEZONE
TZID:America/Chicago
BEGIN:DAYLIGHT
TZOFFSETFROM:-0600
TZOFFSETTO:-0500
TZNAME:CDT
DTSTART:20240310T080000
END:DAYLIGHT
BEGIN:STANDARD
TZOFFSETFROM:-0500
TZOFFSETTO:-0600
TZNAME:CST
DTSTART:20241103T070000
END:STANDARD
BEGIN:DAYLIGHT
TZOFFSETFROM:-0600
TZOFFSETTO:-0500
TZNAME:CDT
DTSTART:20250309T080000
END:DAYLIGHT
BEGIN:STANDARD
TZOFFSETFROM:-0500
TZOFFSETTO:-0600
TZNAME:CST
DTSTART:20251102T070000
END:STANDARD
BEGIN:DAYLIGHT
TZOFFSETFROM:-0600
TZOFFSETTO:-0500
TZNAME:CDT
DTSTART:20260308T080000
END:DAYLIGHT
BEGIN:STANDARD
TZOFFSETFROM:-0500
TZOFFSETTO:-0600
TZNAME:CST
DTSTART:20261101T070000
END:STANDARD
END:VTIMEZONE
BEGIN:VEVENT
DTSTART;TZID=America/Chicago:20251022T090000
DTEND;TZID=America/Chicago:20251022T180000
DTSTAMP:20260419T051317
CREATED:20250911T151522Z
LAST-MODIFIED:20250911T151704Z
UID:4015-1761123600-1761156000@www.hartfiel.com
SUMMARY:Experience Advanced Automation at WITS 2025 with Hartfiel
DESCRIPTION:Join WITS 2025 Hartfiel exhibition at Century II Expo Hall\, October 21-23\, 2025. Visit our booths 641 and 643 to discover the latest automation solutions from industry-leading partners and explore technologies that can transform your manufacturing operations across Kansas and the surrounding region. \n\n\n\nLive Automation Demonstrations at Wichita Trade Show\n\n\n\nExperience hands-on demonstrations of cutting-edge automation technology at our WITS 2025 Hartfiel booth showcase: \n\n\n\n\nMiR 200 autonomous mobile robot demonstrations\n\n\n\nABB GoFa collaborative robot in action\n\n\n\nSICK sensors and IO-Link technology demos\n\n\n\nComprehensive manufacturing automation solutions showcase\n\n\n\n\nWin $100 Gift Card at Industrial Trade Show\n\n\n\nDon’t miss your chance to win a $100 gift card by visiting our booth at the Wichita Industrial Trade Show. Register for the trade show here and visit our booth to discover automation solutions that drive manufacturing excellence. Our team will be available all three days to discuss your specific automation needs and challenges. \n\n\n\nIndustry-Leading Partners at Manufacturing Expo\n\n\n\nConnect with automation experts and explore solutions from our premier partners: MAC\, PHD\, B&R\, SICK\, IMI\, 80/20\, ABB\, WAGO\, HED\, MiR\, PIAB\, Canfield\, and our Manufacturing Solutions division. Each partner brings specialized expertise to help solve your unique manufacturing challenges. \n\n\n\nEvent Details:\n\n\n\n\nDay 1: Tuesday\, October 21 – 1:00pm-7:00pm\n\n\n\nDay 2: Wednesday\, October 22 – 9:00am-6:00pm\n\n\n\nDay 3: Thursday\, October 23 – 9:00am-4:00pm\n\n\n\n\nLocation: Century II Expo Hall\, Wichita\, KS Booths: 641 & 643
URL:https://www.hartfiel.com/upcoming-event/experience-advanced-automation-at-wits-2025-with-hartfiel/
LOCATION:Century II Performing Arts & Convention Center\, 225 W Douglas Ave\, Wichita\, Kansas\, 67202\, United States
ATTACH;FMTTYPE=image/jpeg:https://www.hartfiel.com/wp-content/uploads/2025/09/Postcard-Front-1.jpg
END:VEVENT
END:VCALENDAR