BEGIN:VCALENDAR
VERSION:2.0
PRODID:-//Hartfiel Automation - ECPv6.15.20//NONSGML v1.0//EN
CALSCALE:GREGORIAN
METHOD:PUBLISH
X-ORIGINAL-URL:https://www.hartfiel.com
X-WR-CALDESC:Events for Hartfiel Automation
REFRESH-INTERVAL;VALUE=DURATION:PT1H
X-Robots-Tag:noindex
X-PUBLISHED-TTL:PT1H
BEGIN:VTIMEZONE
TZID:America/Chicago
BEGIN:DAYLIGHT
TZOFFSETFROM:-0600
TZOFFSETTO:-0500
TZNAME:CDT
DTSTART:20240310T080000
END:DAYLIGHT
BEGIN:STANDARD
TZOFFSETFROM:-0500
TZOFFSETTO:-0600
TZNAME:CST
DTSTART:20241103T070000
END:STANDARD
BEGIN:DAYLIGHT
TZOFFSETFROM:-0600
TZOFFSETTO:-0500
TZNAME:CDT
DTSTART:20250309T080000
END:DAYLIGHT
BEGIN:STANDARD
TZOFFSETFROM:-0500
TZOFFSETTO:-0600
TZNAME:CST
DTSTART:20251102T070000
END:STANDARD
BEGIN:DAYLIGHT
TZOFFSETFROM:-0600
TZOFFSETTO:-0500
TZNAME:CDT
DTSTART:20260308T080000
END:DAYLIGHT
BEGIN:STANDARD
TZOFFSETFROM:-0500
TZOFFSETTO:-0600
TZNAME:CST
DTSTART:20261101T070000
END:STANDARD
END:VTIMEZONE
BEGIN:VEVENT
DTSTART;TZID=America/Chicago:20250618T100000
DTEND;TZID=America/Chicago:20250618T170000
DTSTAMP:20260420T035207
CREATED:20250213T190819Z
LAST-MODIFIED:20250911T142806Z
UID:3435-1750240800-1750266000@www.hartfiel.com
SUMMARY:Minnesota Technology Showcase
DESCRIPTION:June 18\, 2025 | 10 am – 5 pm | 6533 Flying Cloud Drive\, Suite 100 | Eden Prairie\, MN 55344\n\n\n\nExperience demonstrations\, exhibits\, and displays of the latest cutting-edge technology available today. \n\n\n\nEnjoy free food\, drinks\, and conversation about today’s proven technology.  Build your network with the leading experts\, suppliers\, and colleagues in the automation industry.
URL:https://www.hartfiel.com/upcoming-event/automation-technology-showcase-eden-prairie-mn-2025/
LOCATION:Hartfiel HQ 6533 Flying Cloud Drive\, Suite 100 Eden Prairie MN 55344\, 6355 Flying Cloud Drive\, Suite 100\, Eden Prairie\, Minnesota\, 55344\, United States
ATTACH;FMTTYPE=image/jpeg:https://www.hartfiel.com/wp-content/uploads/2025/02/Capture-1.jpg
END:VEVENT
END:VCALENDAR